BEGIN:VCALENDAR
VERSION:2.0
PRODID:-//Pingstkyrkan Eksjö - ECPv6.15.16//NONSGML v1.0//EN
CALSCALE:GREGORIAN
METHOD:PUBLISH
X-WR-CALNAME:Pingstkyrkan Eksjö
X-ORIGINAL-URL:https://www.eksjo-pingst.se
X-WR-CALDESC:Händelser för Pingstkyrkan Eksjö
REFRESH-INTERVAL;VALUE=DURATION:PT1H
X-Robots-Tag:noindex
X-PUBLISHED-TTL:PT1H
BEGIN:VTIMEZONE
TZID:Europe/Stockholm
BEGIN:DAYLIGHT
TZOFFSETFROM:+0100
TZOFFSETTO:+0200
TZNAME:CEST
DTSTART:20240331T010000
END:DAYLIGHT
BEGIN:STANDARD
TZOFFSETFROM:+0200
TZOFFSETTO:+0100
TZNAME:CET
DTSTART:20241027T010000
END:STANDARD
BEGIN:DAYLIGHT
TZOFFSETFROM:+0100
TZOFFSETTO:+0200
TZNAME:CEST
DTSTART:20250330T010000
END:DAYLIGHT
BEGIN:STANDARD
TZOFFSETFROM:+0200
TZOFFSETTO:+0100
TZNAME:CET
DTSTART:20251026T010000
END:STANDARD
BEGIN:DAYLIGHT
TZOFFSETFROM:+0100
TZOFFSETTO:+0200
TZNAME:CEST
DTSTART:20260329T010000
END:DAYLIGHT
BEGIN:STANDARD
TZOFFSETFROM:+0200
TZOFFSETTO:+0100
TZNAME:CET
DTSTART:20261025T010000
END:STANDARD
END:VTIMEZONE
BEGIN:VEVENT
DTSTART;TZID=Europe/Stockholm:20251210T150000
DTEND;TZID=Europe/Stockholm:20251210T153000
DTSTAMP:20260419T205357
CREATED:20250923T102842Z
LAST-MODIFIED:20251008T210540Z
UID:6566-1765378800-1765380600@www.eksjo-pingst.se
SUMMARY:Andakt på Snickarn
DESCRIPTION:Andakt på trygghetsboendet Snickarn för alla som bor där.
URL:https://www.eksjo-pingst.se/event/andakt-pa-snickarn-2/
ATTACH;FMTTYPE=image/jpeg:https://www.eksjo-pingst.se/wp-content/uploads/2025/09/Lovsang-1-1-scaled.jpg
END:VEVENT
END:VCALENDAR