BEGIN:VCALENDAR
VERSION:2.0
PRODID:-//Pingstkyrkan Eksjö - ECPv6.15.16//NONSGML v1.0//EN
CALSCALE:GREGORIAN
METHOD:PUBLISH
X-ORIGINAL-URL:https://www.eksjo-pingst.se
X-WR-CALDESC:Händelser för Pingstkyrkan Eksjö
REFRESH-INTERVAL;VALUE=DURATION:PT1H
X-Robots-Tag:noindex
X-PUBLISHED-TTL:PT1H
BEGIN:VTIMEZONE
TZID:Europe/Stockholm
BEGIN:DAYLIGHT
TZOFFSETFROM:+0100
TZOFFSETTO:+0200
TZNAME:CEST
DTSTART:20250330T010000
END:DAYLIGHT
BEGIN:STANDARD
TZOFFSETFROM:+0200
TZOFFSETTO:+0100
TZNAME:CET
DTSTART:20251026T010000
END:STANDARD
BEGIN:DAYLIGHT
TZOFFSETFROM:+0100
TZOFFSETTO:+0200
TZNAME:CEST
DTSTART:20260329T010000
END:DAYLIGHT
BEGIN:STANDARD
TZOFFSETFROM:+0200
TZOFFSETTO:+0100
TZNAME:CET
DTSTART:20261025T010000
END:STANDARD
BEGIN:DAYLIGHT
TZOFFSETFROM:+0100
TZOFFSETTO:+0200
TZNAME:CEST
DTSTART:20270328T010000
END:DAYLIGHT
BEGIN:STANDARD
TZOFFSETFROM:+0200
TZOFFSETTO:+0100
TZNAME:CET
DTSTART:20271031T010000
END:STANDARD
END:VTIMEZONE
BEGIN:VEVENT
DTSTART;TZID=Europe/Stockholm:20260114T180000
DTEND;TZID=Europe/Stockholm:20260114T200000
DTSTAMP:20260419T191128
CREATED:20251120T161816Z
LAST-MODIFIED:20260109T144126Z
UID:7049-1768413600-1768420800@www.eksjo-pingst.se
SUMMARY:David och Ellen på besök
DESCRIPTION:Den 14/1 är alla varmt inbjudna till en kväll då David och Ellen berättar om sina erfarenheter från världen. Kvällen börjar med en enklare måltid och fortsätter med att David och Ellen delar om upplevelser\, och på slutet ber vi för dem.\nDetta blir en fin kväll för gemenskap med David och Ellen.\nDet kommer finnas möjlighet att ge en frivillig gåva till församlingens mission under kvällen.\nMan kan anmäla sig till denna kväll på en lista i församlingssalen eller här: https://forms.gle/XFasSDkUfQXkXSkq9 senast 11/1.\nVarmt välkommen!
URL:https://www.eksjo-pingst.se/event/david-och-ellen-thornell-pa-besok/
LOCATION:Pingstkyrkan Eksjö
ATTACH;FMTTYPE=image/jpeg:https://www.eksjo-pingst.se/wp-content/uploads/2025/11/Thornells.jpg
END:VEVENT
END:VCALENDAR