BEGIN:VCALENDAR
VERSION:2.0
PRODID:-//Pingstkyrkan Eksjö - ECPv6.15.16//NONSGML v1.0//EN
CALSCALE:GREGORIAN
METHOD:PUBLISH
X-ORIGINAL-URL:https://www.eksjo-pingst.se
X-WR-CALDESC:Händelser för Pingstkyrkan Eksjö
REFRESH-INTERVAL;VALUE=DURATION:PT1H
X-Robots-Tag:noindex
X-PUBLISHED-TTL:PT1H
BEGIN:VTIMEZONE
TZID:Europe/Stockholm
BEGIN:DAYLIGHT
TZOFFSETFROM:+0100
TZOFFSETTO:+0200
TZNAME:CEST
DTSTART:20250330T010000
END:DAYLIGHT
BEGIN:STANDARD
TZOFFSETFROM:+0200
TZOFFSETTO:+0100
TZNAME:CET
DTSTART:20251026T010000
END:STANDARD
BEGIN:DAYLIGHT
TZOFFSETFROM:+0100
TZOFFSETTO:+0200
TZNAME:CEST
DTSTART:20260329T010000
END:DAYLIGHT
BEGIN:STANDARD
TZOFFSETFROM:+0200
TZOFFSETTO:+0100
TZNAME:CET
DTSTART:20261025T010000
END:STANDARD
BEGIN:DAYLIGHT
TZOFFSETFROM:+0100
TZOFFSETTO:+0200
TZNAME:CEST
DTSTART:20270328T010000
END:DAYLIGHT
BEGIN:STANDARD
TZOFFSETFROM:+0200
TZOFFSETTO:+0100
TZNAME:CET
DTSTART:20271031T010000
END:STANDARD
END:VTIMEZONE
BEGIN:VEVENT
DTSTART;TZID=Europe/Stockholm:20260207T120000
DTEND;TZID=Europe/Stockholm:20260209T150000
DTSTAMP:20260419T175250
CREATED:20251218T153544Z
LAST-MODIFIED:20260105T111528Z
UID:7239-1770465600-1770649200@www.eksjo-pingst.se
SUMMARY:Skidläger för årskurs 3-6
DESCRIPTION:Följ med på skidläger! Du som går i åk. 3-6 får hänga med. \n\nHur anmäler du dig?\n\nMaila till elinkullberg97@gmail.com. Skriv ditt namn\, telefonnummer\, målsmans namn och telefonnummer\, samt din ålder och ev. allergier. Sista anmälningsdagen är den 1 februari.  \nNär du anmält dig får du en bekräftelse och info om hur du ska betala\, samt praktisk information.  \n\nVad kostar det?\n\nMat\, logi samt liftkort: \n850 + ev. kostnad för liftkortstag.  \n\nVill du hyra skidor/snowboard?\nAntigen går du in på  www.asbyalpina.com och hyr\, eller så mailar du dem info@asbyaslpina.com . \n\nOBS! Vid utebliven snö ställs lägret in.
URL:https://www.eksjo-pingst.se/event/skidlager-for-arskurs-3-6/
CATEGORIES:Barn
ATTACH;FMTTYPE=image/jpeg:https://www.eksjo-pingst.se/wp-content/uploads/2025/12/Skidor-barn.jpg
END:VEVENT
END:VCALENDAR