BEGIN:VCALENDAR
VERSION:2.0
PRODID:-//Pingstkyrkan Eksjö - ECPv6.15.16//NONSGML v1.0//EN
CALSCALE:GREGORIAN
METHOD:PUBLISH
X-ORIGINAL-URL:https://www.eksjo-pingst.se
X-WR-CALDESC:Händelser för Pingstkyrkan Eksjö
REFRESH-INTERVAL;VALUE=DURATION:PT1H
X-Robots-Tag:noindex
X-PUBLISHED-TTL:PT1H
BEGIN:VTIMEZONE
TZID:Europe/Stockholm
BEGIN:DAYLIGHT
TZOFFSETFROM:+0100
TZOFFSETTO:+0200
TZNAME:CEST
DTSTART:20240331T010000
END:DAYLIGHT
BEGIN:STANDARD
TZOFFSETFROM:+0200
TZOFFSETTO:+0100
TZNAME:CET
DTSTART:20241027T010000
END:STANDARD
BEGIN:DAYLIGHT
TZOFFSETFROM:+0100
TZOFFSETTO:+0200
TZNAME:CEST
DTSTART:20250330T010000
END:DAYLIGHT
BEGIN:STANDARD
TZOFFSETFROM:+0200
TZOFFSETTO:+0100
TZNAME:CET
DTSTART:20251026T010000
END:STANDARD
BEGIN:DAYLIGHT
TZOFFSETFROM:+0100
TZOFFSETTO:+0200
TZNAME:CEST
DTSTART:20260329T010000
END:DAYLIGHT
BEGIN:STANDARD
TZOFFSETFROM:+0200
TZOFFSETTO:+0100
TZNAME:CET
DTSTART:20261025T010000
END:STANDARD
END:VTIMEZONE
BEGIN:VEVENT
DTSTART;TZID=Europe/Stockholm:20251001T150000
DTEND;TZID=Europe/Stockholm:20251001T153000
DTSTAMP:20260420T002602
CREATED:20250827T100048Z
LAST-MODIFIED:20250827T100048Z
UID:4958-1759330800-1759332600@www.eksjo-pingst.se
SUMMARY:Andakt på Snickarn
DESCRIPTION:
URL:https://www.eksjo-pingst.se/event/andakt-pa-snickarn/
END:VEVENT
BEGIN:VEVENT
DTSTART;TZID=Europe/Stockholm:20251001T181500
DTEND;TZID=Europe/Stockholm:20251001T203000
DTSTAMP:20260420T002602
CREATED:20250827T095955Z
LAST-MODIFIED:20250925T092635Z
UID:4956-1759342500-1759350600@www.eksjo-pingst.se
SUMMARY:Royal Rangers
DESCRIPTION:
URL:https://www.eksjo-pingst.se/event/royal-rangers-3/
CATEGORIES:Royal Rangers
END:VEVENT
BEGIN:VEVENT
DTSTART;TZID=Europe/Stockholm:20251003T193000
DTEND;TZID=Europe/Stockholm:20251003T230000
DTSTAMP:20260420T002602
CREATED:20250827T100412Z
LAST-MODIFIED:20250827T100412Z
UID:4966-1759519800-1759532400@www.eksjo-pingst.se
SUMMARY:Tonår
DESCRIPTION:
URL:https://www.eksjo-pingst.se/event/tonar-5/
LOCATION:Pingstkyrkan Eksjö
CATEGORIES:Tonår
END:VEVENT
BEGIN:VEVENT
DTSTART;TZID=Europe/Stockholm:20251005T103000
DTEND;TZID=Europe/Stockholm:20251005T123000
DTSTAMP:20260420T002602
CREATED:20250923T061410Z
LAST-MODIFIED:20250923T061452Z
UID:6495-1759660200-1759667400@www.eksjo-pingst.se
SUMMARY:Gudstjänst
DESCRIPTION:Predikan: Jessica Cehlin
URL:https://www.eksjo-pingst.se/event/gudstjanst-5/
LOCATION:Pingstkyrkan Eksjö
CATEGORIES:Gudstjänst
END:VEVENT
BEGIN:VEVENT
DTSTART;TZID=Europe/Stockholm:20251007T100000
DTEND;TZID=Europe/Stockholm:20251007T110000
DTSTAMP:20260420T002602
CREATED:20250923T061607Z
LAST-MODIFIED:20250923T061607Z
UID:6497-1759831200-1759834800@www.eksjo-pingst.se
SUMMARY:Bibel\, bön & fika
DESCRIPTION:
URL:https://www.eksjo-pingst.se/event/bibel-bon-fika-7/
LOCATION:Pingstkyrkan Eksjö
CATEGORIES:Bön
END:VEVENT
BEGIN:VEVENT
DTSTART;TZID=Europe/Stockholm:20251007T183000
DTEND;TZID=Europe/Stockholm:20251007T193000
DTSTAMP:20260420T002602
CREATED:20250923T062150Z
LAST-MODIFIED:20250923T062150Z
UID:6513-1759861800-1759865400@www.eksjo-pingst.se
SUMMARY:Bön & lovsång
DESCRIPTION:
URL:https://www.eksjo-pingst.se/event/bon-lovsang-4/
LOCATION:Pingstkyrkan Eksjö
CATEGORIES:Bön
END:VEVENT
BEGIN:VEVENT
DTSTART;TZID=Europe/Stockholm:20251008T181500
DTEND;TZID=Europe/Stockholm:20251008T200000
DTSTAMP:20260420T002602
CREATED:20250923T062640Z
LAST-MODIFIED:20251008T181413Z
UID:6521-1759947300-1759953600@www.eksjo-pingst.se
SUMMARY:Royal Rangers
DESCRIPTION:Välkommen med ut i skogen! Alla våra barn/ungdomsaktiviteter är gratis och kräver ingen föranmälan.\nVill du veta mer? Kontakta: royalrangerseksjo@gmail.com
URL:https://www.eksjo-pingst.se/event/royal-rangers-4/
CATEGORIES:Barn,Royal Rangers
ATTACH;FMTTYPE=image/jpeg:https://www.eksjo-pingst.se/wp-content/uploads/2025/09/Royal-Rangers-1.jpg
END:VEVENT
BEGIN:VEVENT
DTSTART;TZID=Europe/Stockholm:20251010T193000
DTEND;TZID=Europe/Stockholm:20251010T223000
DTSTAMP:20260420T002602
CREATED:20250923T095458Z
LAST-MODIFIED:20251008T190513Z
UID:6523-1760124600-1760135400@www.eksjo-pingst.se
SUMMARY:Tonår
DESCRIPTION:Tonår finns till för dig som går i årskurs 7 och uppåt. Vi har insläpp fredagar kl 19:30-20:00. Kvällen börjar med drop-in fika och fortsätter sedan med en andakt. Efter andakten fortsätter vi gemenskapen tillsammans med fika\, sällskapsspel\, biljard\, pingis och andra aktiviteter. Vi träffas hela terminen i Pingstkyrkan om det inte står något annat i programmet. Vi brukar stänga Tonår kl 22:30. Vill du veta mer om Tonårsarbetet hör av dig till jesper@eksjo-pingst.se. Välkommen! 
URL:https://www.eksjo-pingst.se/event/tonar-6/
CATEGORIES:Tonår
ATTACH;FMTTYPE=image/jpeg:https://www.eksjo-pingst.se/wp-content/uploads/2025/09/Tonar-e1766070060618.jpg
END:VEVENT
BEGIN:VEVENT
DTSTART;TZID=Europe/Stockholm:20251012T103000
DTEND;TZID=Europe/Stockholm:20251012T120000
DTSTAMP:20260420T002602
CREATED:20250923T101438Z
LAST-MODIFIED:20251008T202320Z
UID:6540-1760265000-1760270400@www.eksjo-pingst.se
SUMMARY:Gudstjänst
DESCRIPTION:Varmt välkommen på gudstjänst!\nTemat för hösten är ”Helhjärtat” och denna söndag är rubriken ”Helhjärtat vittna”.\nEfter gudstjänsten är du välkommen till gemenskapen runt fikaborden.\nPredikant: David Thornell
URL:https://www.eksjo-pingst.se/event/gudstjanst-6/
LOCATION:Pingstkyrkan Eksjö
CATEGORIES:Gudstjänst
ATTACH;FMTTYPE=image/jpeg:https://www.eksjo-pingst.se/wp-content/uploads/2025/09/Omslag-bild-2.jpg
END:VEVENT
BEGIN:VEVENT
DTSTART;TZID=Europe/Stockholm:20251014T100000
DTEND;TZID=Europe/Stockholm:20251014T110000
DTSTAMP:20260420T002602
CREATED:20250923T061649Z
LAST-MODIFIED:20251008T201632Z
UID:6499-1760436000-1760439600@www.eksjo-pingst.se
SUMMARY:Bibel\, bön & fika
DESCRIPTION:Detta är en samling för alla daglediga. Vi läser Bibeln\, samtalar om texten och ber tillsammans. Efter samlingen serveras fika och vi har gemenskap runt fikaborden. Varmt välkommen!
URL:https://www.eksjo-pingst.se/event/bibel-bon-fika-8/
LOCATION:Pingstkyrkan Eksjö
CATEGORIES:Bön
ATTACH;FMTTYPE=image/jpeg:https://www.eksjo-pingst.se/wp-content/uploads/2025/09/Bon-1-scaled.jpg
END:VEVENT
BEGIN:VEVENT
DTSTART;TZID=Europe/Stockholm:20251015T181500
DTEND;TZID=Europe/Stockholm:20251015T194500
DTSTAMP:20260420T002602
CREATED:20250923T103454Z
LAST-MODIFIED:20251008T184616Z
UID:6568-1760552100-1760557500@www.eksjo-pingst.se
SUMMARY:Royal Rangers
DESCRIPTION:Välkommen med ut i skogen! Alla våra barn/ungdomsaktiviteter är gratis och kräver ingen föranmälan.\nVill du veta mer? Kontakta: royalrangerseksjo@gmail.com
URL:https://www.eksjo-pingst.se/event/royal-rangers-5/
CATEGORIES:Barn,Royal Rangers
ATTACH;FMTTYPE=image/jpeg:https://www.eksjo-pingst.se/wp-content/uploads/2025/09/Royal-Rangers-1.jpg
END:VEVENT
BEGIN:VEVENT
DTSTART;TZID=Europe/Stockholm:20251016T110000
DTEND;TZID=Europe/Stockholm:20251016T113000
DTSTAMP:20260420T002602
CREATED:20250923T102226Z
LAST-MODIFIED:20251008T205639Z
UID:6556-1760612400-1760614200@www.eksjo-pingst.se
SUMMARY:Andakt på Almgården
DESCRIPTION:Andakt på äldreboendet Almgården för alla som bor där.
URL:https://www.eksjo-pingst.se/event/andakt-pa-almgarden/
ATTACH;FMTTYPE=image/jpeg:https://www.eksjo-pingst.se/wp-content/uploads/2025/09/Lovsang-1-1-scaled.jpg
END:VEVENT
BEGIN:VEVENT
DTSTART;TZID=Europe/Stockholm:20251016T120000
DTEND;TZID=Europe/Stockholm:20251016T123000
DTSTAMP:20260420T002602
CREATED:20250923T102415Z
LAST-MODIFIED:20251008T205812Z
UID:6558-1760616000-1760617800@www.eksjo-pingst.se
SUMMARY:Andakt på Marieberg
DESCRIPTION:Andakt på äldreboendet Marieberg för alla som bor där.
URL:https://www.eksjo-pingst.se/event/andakt-pa-marieberg/
ATTACH;FMTTYPE=image/jpeg:https://www.eksjo-pingst.se/wp-content/uploads/2025/09/Lovsang-1-1-scaled.jpg
END:VEVENT
BEGIN:VEVENT
DTSTART;TZID=Europe/Stockholm:20251017T193000
DTEND;TZID=Europe/Stockholm:20251017T223000
DTSTAMP:20260420T002602
CREATED:20250923T100457Z
LAST-MODIFIED:20251008T190553Z
UID:6526-1760729400-1760740200@www.eksjo-pingst.se
SUMMARY:Tonår
DESCRIPTION:Tonår finns till för dig som går i årskurs 7 och uppåt. Vi har insläpp fredagar kl 19:30-20:00. Kvällen börjar med drop-in fika och fortsätter sedan med en andakt. Efter andakten fortsätter vi gemenskapen tillsammans med fika\, sällskapsspel\, biljard\, pingis och andra aktiviteter. Vi träffas hela terminen i Pingstkyrkan om det inte står något annat i programmet. Vi brukar stänga Tonår kl 22:30. Välkommen! Vill du veta mer om Tonårsarbetet hör av dig till jesper@eksjo-pingst.se.
URL:https://www.eksjo-pingst.se/event/tonar-7/
CATEGORIES:Tonår
ATTACH;FMTTYPE=image/jpeg:https://www.eksjo-pingst.se/wp-content/uploads/2025/09/Tonar-e1766070060618.jpg
END:VEVENT
BEGIN:VEVENT
DTSTART;TZID=Europe/Stockholm:20251018T093000
DTEND;TZID=Europe/Stockholm:20251018T163000
DTSTAMP:20260420T002602
CREATED:20250917T081915Z
LAST-MODIFIED:20251008T210822Z
UID:5633-1760779800-1760805000@www.eksjo-pingst.se
SUMMARY:Barnkördag
DESCRIPTION:Den 18 oktober kan alla barn mellan 5-10 år vara med på en ekumenisk barnkördag. Detta blir en heldag med härlig körsång och massa roliga sånger för barnen. På söndagen visar man sedan upp det man lärt sig på gudstjänst kl 10.00. Både övningen och gudstjänsten sker i Pingstkyrkan. Kostnad 100 kr. Anmälan senast 10 okt.  \nDu hittar länken med anmälan nedan! 
URL:https://www.eksjo-pingst.se/event/barnkordag/
CATEGORIES:Barn
ATTACH;FMTTYPE=image/jpeg:https://www.eksjo-pingst.se/wp-content/uploads/2025/09/Barn-3-scaled-e1766072241643.jpg
END:VEVENT
BEGIN:VEVENT
DTSTART;TZID=Europe/Stockholm:20251019T100000
DTEND;TZID=Europe/Stockholm:20251019T120000
DTSTAMP:20260420T002602
CREATED:20250923T101543Z
LAST-MODIFIED:20251008T193706Z
UID:6542-1760868000-1760875200@www.eksjo-pingst.se
SUMMARY:Gudstjänst
DESCRIPTION:Varmt välkommen på gudstjänst! Denna gudstjänst börjar redan 10.00 då vi har besök av en ekumenisk barnkör. Detta är en gudstjänst för alla åldrar med körsång och drama. Fika serveras efter gudstjänsten.
URL:https://www.eksjo-pingst.se/event/gudstjanst-7/
LOCATION:Pingstkyrkan Eksjö
CATEGORIES:Barn,Gudstjänst
ATTACH;FMTTYPE=image/jpeg:https://www.eksjo-pingst.se/wp-content/uploads/2025/09/Omslag-bild-2.jpg
END:VEVENT
BEGIN:VEVENT
DTSTART;TZID=Europe/Stockholm:20251021T100000
DTEND;TZID=Europe/Stockholm:20251021T110000
DTSTAMP:20260420T002602
CREATED:20250923T061716Z
LAST-MODIFIED:20251008T201853Z
UID:6501-1761040800-1761044400@www.eksjo-pingst.se
SUMMARY:Bibel\, bön & fika
DESCRIPTION:Detta är en samling för alla daglediga. Vi läser Bibeln\, samtalar om texten och ber tillsammans. Efter samlingen serveras fika och vi har gemenskap runt fikaborden. Varmt välkommen!
URL:https://www.eksjo-pingst.se/event/bibel-bon-fika-9/
LOCATION:Pingstkyrkan Eksjö
CATEGORIES:Bön
ATTACH;FMTTYPE=image/jpeg:https://www.eksjo-pingst.se/wp-content/uploads/2025/09/Bon-1-scaled.jpg
END:VEVENT
BEGIN:VEVENT
DTSTART;TZID=Europe/Stockholm:20251021T183000
DTEND;TZID=Europe/Stockholm:20251021T193000
DTSTAMP:20260420T002602
CREATED:20250923T062225Z
LAST-MODIFIED:20251021T115609Z
UID:6515-1761071400-1761075000@www.eksjo-pingst.se
SUMMARY:Bön & lovsång + församlingsmöte
DESCRIPTION:Vi börjar denna kväll med att lovsjunga Gud och vi ber för församlingen\, Sverige och Eksjö! \nDenna kväll kommer vi efter en stund av lovsång och bön ha församlingsmöte för församlingens medlemmar. \nMatt 18:19-20\nVidare säger jag er: allt vad två av er kommer överens om att be om här på jorden\, det skall de få av min himmelske fader. Ty där två eller tre är samlade i mitt namn är jag mitt ibland dem.
URL:https://www.eksjo-pingst.se/event/bon-lovsang-5/
LOCATION:Pingstkyrkan Eksjö
CATEGORIES:Bön
ATTACH;FMTTYPE=image/jpeg:https://www.eksjo-pingst.se/wp-content/uploads/2025/09/Lovsang-2-scaled.jpg
END:VEVENT
BEGIN:VEVENT
DTSTART;TZID=Europe/Stockholm:20251022T181500
DTEND;TZID=Europe/Stockholm:20251022T194500
DTSTAMP:20260420T002602
CREATED:20250923T103535Z
LAST-MODIFIED:20251008T184653Z
UID:6570-1761156900-1761162300@www.eksjo-pingst.se
SUMMARY:Royal Rangers
DESCRIPTION:Välkommen med ut i skogen! Alla våra barn/ungdomsaktiviteter är gratis och kräver ingen föranmälan. Vill du veta mer? Kontakta: royalrangerseksjo@gmail.com
URL:https://www.eksjo-pingst.se/event/royal-rangers-6/
CATEGORIES:Barn,Royal Rangers
ATTACH;FMTTYPE=image/jpeg:https://www.eksjo-pingst.se/wp-content/uploads/2025/09/Royal-Rangers-1.jpg
END:VEVENT
BEGIN:VEVENT
DTSTART;TZID=Europe/Stockholm:20251024T193000
DTEND;TZID=Europe/Stockholm:20251024T223000
DTSTAMP:20260420T002602
CREATED:20250923T100619Z
LAST-MODIFIED:20251008T190648Z
UID:6528-1761334200-1761345000@www.eksjo-pingst.se
SUMMARY:Tonår
DESCRIPTION:Tonår finns till för dig som går i årskurs 7 och uppåt. Vi har insläpp fredagar kl 19:30-20:00. Kvällen börjar med drop-in fika och fortsätter sedan med en andakt. Efter andakten fortsätter vi gemenskapen tillsammans med fika\, sällskapsspel\, biljard\, pingis och andra aktiviteter. Vi träffas hela terminen i Pingstkyrkan om det inte står något annat i programmet. Vi brukar stänga Tonår kl 22:30. Välkommen! Vill du veta mer om Tonårsarbetet hör av dig till jesper@eksjo-pingst.se.
URL:https://www.eksjo-pingst.se/event/tonar-8/
CATEGORIES:Tonår
ATTACH;FMTTYPE=image/jpeg:https://www.eksjo-pingst.se/wp-content/uploads/2025/09/Tonar-e1766070060618.jpg
END:VEVENT
BEGIN:VEVENT
DTSTART;TZID=Europe/Stockholm:20251026T103000
DTEND;TZID=Europe/Stockholm:20251026T120000
DTSTAMP:20260420T002602
CREATED:20250923T101651Z
LAST-MODIFIED:20251008T201302Z
UID:6544-1761474600-1761480000@www.eksjo-pingst.se
SUMMARY:Gudstjänst
DESCRIPTION:Varmt välkommen på gudstjänst!\nTemat för hösten är ”Helhjärtat” och denna söndag är rubriken ”Helhjärtat hjälpa”.\nEfter gudstjänsten är du välkommen till gemenskapen runt fikaborden.\nPredikant: Jesper Bengtsson
URL:https://www.eksjo-pingst.se/event/gudstjanst-8/
LOCATION:Pingstkyrkan Eksjö
CATEGORIES:Gudstjänst
ATTACH;FMTTYPE=image/jpeg:https://www.eksjo-pingst.se/wp-content/uploads/2025/09/Omslag-bild-2.jpg
END:VEVENT
BEGIN:VEVENT
DTSTART;TZID=Europe/Stockholm:20251028T100000
DTEND;TZID=Europe/Stockholm:20251028T110000
DTSTAMP:20260420T002602
CREATED:20250923T061754Z
LAST-MODIFIED:20251008T202059Z
UID:6503-1761645600-1761649200@www.eksjo-pingst.se
SUMMARY:Bibel\, bön & fika
DESCRIPTION:Detta är en samling för alla daglediga. Vi läser Bibeln\, samtalar om texten och ber tillsammans. Efter samlingen serveras fika och vi har gemenskap runt fikaborden. Varmt välkommen!
URL:https://www.eksjo-pingst.se/event/bibel-bon-fika-10/
LOCATION:Pingstkyrkan Eksjö
CATEGORIES:Bön
ATTACH;FMTTYPE=image/jpeg:https://www.eksjo-pingst.se/wp-content/uploads/2025/09/Bon-1-scaled.jpg
END:VEVENT
BEGIN:VEVENT
DTSTART;TZID=Europe/Stockholm:20251031T193000
DTEND;TZID=Europe/Stockholm:20251031T223000
DTSTAMP:20260420T002602
CREATED:20250923T100729Z
LAST-MODIFIED:20251008T190717Z
UID:6530-1761939000-1761949800@www.eksjo-pingst.se
SUMMARY:Tonår
DESCRIPTION:Tonår finns till för dig som går i årskurs 7 och uppåt. Vi har insläpp fredagar kl 19:30-20:00. Kvällen börjar med drop-in fika och fortsätter sedan med en andakt. Efter andakten fortsätter vi gemenskapen tillsammans med fika\, sällskapsspel\, biljard\, pingis och andra aktiviteter. Vi träffas hela terminen i Pingstkyrkan om det inte står något annat i programmet. Vi brukar stänga Tonår kl 22:30. Välkommen! Vill du veta mer om Tonårsarbetet hör av dig till jesper@eksjo-pingst.se.
URL:https://www.eksjo-pingst.se/event/tonar-9/
CATEGORIES:Tonår
ATTACH;FMTTYPE=image/jpeg:https://www.eksjo-pingst.se/wp-content/uploads/2025/09/Tonar-e1766070060618.jpg
END:VEVENT
END:VCALENDAR