BEGIN:VCALENDAR
VERSION:2.0
PRODID:-//Pingstkyrkan Eksjö - ECPv6.15.16//NONSGML v1.0//EN
CALSCALE:GREGORIAN
METHOD:PUBLISH
X-WR-CALNAME:Pingstkyrkan Eksjö
X-ORIGINAL-URL:https://www.eksjo-pingst.se
X-WR-CALDESC:Händelser för Pingstkyrkan Eksjö
REFRESH-INTERVAL;VALUE=DURATION:PT1H
X-Robots-Tag:noindex
X-PUBLISHED-TTL:PT1H
BEGIN:VTIMEZONE
TZID:Europe/Stockholm
BEGIN:DAYLIGHT
TZOFFSETFROM:+0100
TZOFFSETTO:+0200
TZNAME:CEST
DTSTART:20240331T010000
END:DAYLIGHT
BEGIN:STANDARD
TZOFFSETFROM:+0200
TZOFFSETTO:+0100
TZNAME:CET
DTSTART:20241027T010000
END:STANDARD
BEGIN:DAYLIGHT
TZOFFSETFROM:+0100
TZOFFSETTO:+0200
TZNAME:CEST
DTSTART:20250330T010000
END:DAYLIGHT
BEGIN:STANDARD
TZOFFSETFROM:+0200
TZOFFSETTO:+0100
TZNAME:CET
DTSTART:20251026T010000
END:STANDARD
BEGIN:DAYLIGHT
TZOFFSETFROM:+0100
TZOFFSETTO:+0200
TZNAME:CEST
DTSTART:20260329T010000
END:DAYLIGHT
BEGIN:STANDARD
TZOFFSETFROM:+0200
TZOFFSETTO:+0100
TZNAME:CET
DTSTART:20261025T010000
END:STANDARD
END:VTIMEZONE
BEGIN:VEVENT
DTSTART;TZID=Europe/Stockholm:20251102T103000
DTEND;TZID=Europe/Stockholm:20251102T120000
DTSTAMP:20260419T224312
CREATED:20250923T101756Z
LAST-MODIFIED:20251008T194121Z
UID:6546-1762079400-1762084800@www.eksjo-pingst.se
SUMMARY:Gudstjänst
DESCRIPTION:Varmt välkommen på gudstjänst!\nTemat för hösten är ”Helhjärtat” och denna söndag är rubriken ”Helhjärtat ge”.\nEfter gudstjänsten är du välkommen till gemenskapen runt fikaborden.\nPredikant: Jessica Cehlin
URL:https://www.eksjo-pingst.se/event/gudstjanst-9/
LOCATION:Pingstkyrkan Eksjö
CATEGORIES:Gudstjänst
ATTACH;FMTTYPE=image/jpeg:https://www.eksjo-pingst.se/wp-content/uploads/2025/09/Omslag-bild-2.jpg
END:VEVENT
BEGIN:VEVENT
DTSTART;TZID=Europe/Stockholm:20251104T100000
DTEND;TZID=Europe/Stockholm:20251104T110000
DTSTAMP:20260419T224312
CREATED:20250923T061830Z
LAST-MODIFIED:20251008T202234Z
UID:6505-1762250400-1762254000@www.eksjo-pingst.se
SUMMARY:Bibel\, bön & fika
DESCRIPTION:Detta är en samling för alla daglediga. Vi läser Bibeln\, samtalar om texten och ber tillsammans. Efter samlingen serveras fika och vi har gemenskap runt fikaborden. Varmt välkommen!
URL:https://www.eksjo-pingst.se/event/bibel-bon-fika-11/
LOCATION:Pingstkyrkan Eksjö
CATEGORIES:Bön
ATTACH;FMTTYPE=image/jpeg:https://www.eksjo-pingst.se/wp-content/uploads/2025/09/Bon-1-scaled.jpg
END:VEVENT
BEGIN:VEVENT
DTSTART;TZID=Europe/Stockholm:20251104T183000
DTEND;TZID=Europe/Stockholm:20251104T193000
DTSTAMP:20260419T224312
CREATED:20250923T062303Z
LAST-MODIFIED:20251008T204515Z
UID:6517-1762281000-1762284600@www.eksjo-pingst.se
SUMMARY:Bön & lovsång
DESCRIPTION:Vi lovsjunger Gud och ber för församlingen\, Sverige och Eksjö! \nMatt 18:19-20\nVidare säger jag er: allt vad två av er kommer överens om att be om här på jorden\, det skall de få av min himmelske fader. Ty där två eller tre är samlade i mitt namn är jag mitt ibland dem.
URL:https://www.eksjo-pingst.se/event/bon-lovsang-6/
LOCATION:Pingstkyrkan Eksjö
CATEGORIES:Bön
ATTACH;FMTTYPE=image/jpeg:https://www.eksjo-pingst.se/wp-content/uploads/2025/09/Lovsang-2-scaled.jpg
END:VEVENT
BEGIN:VEVENT
DTSTART;TZID=Europe/Stockholm:20251105T150000
DTEND;TZID=Europe/Stockholm:20251105T153000
DTSTAMP:20260419T224312
CREATED:20250923T102549Z
LAST-MODIFIED:20251008T205912Z
UID:6560-1762354800-1762356600@www.eksjo-pingst.se
SUMMARY:Andakt på Mogården
DESCRIPTION:Andakt på äldreboendet Mogården för alla som bor där.
URL:https://www.eksjo-pingst.se/event/andakt-pa-mogarden/
ATTACH;FMTTYPE=image/jpeg:https://www.eksjo-pingst.se/wp-content/uploads/2025/09/Lovsang-1-1-scaled.jpg
END:VEVENT
BEGIN:VEVENT
DTSTART;TZID=Europe/Stockholm:20251107T193000
DTEND;TZID=Europe/Stockholm:20251107T223000
DTSTAMP:20260419T224312
CREATED:20250923T100946Z
LAST-MODIFIED:20251008T190813Z
UID:6532-1762543800-1762554600@www.eksjo-pingst.se
SUMMARY:Tonår
DESCRIPTION:Tonår finns till för dig som går i årskurs 7 och uppåt. Vi har insläpp fredagar kl 19:30-20:00. Kvällen börjar med drop-in fika och fortsätter sedan med en andakt. Efter andakten fortsätter vi gemenskapen tillsammans med fika\, sällskapsspel\, biljard\, pingis och andra aktiviteter. Vi träffas hela terminen i Pingstkyrkan om det inte står något annat i programmet. Vi brukar stänga Tonår kl 22:30. Välkommen! Vill du veta mer om Tonårsarbetet hör av dig till jesper@eksjo-pingst.se.
URL:https://www.eksjo-pingst.se/event/tonar-10/
CATEGORIES:Tonår
ATTACH;FMTTYPE=image/jpeg:https://www.eksjo-pingst.se/wp-content/uploads/2025/09/Tonar-e1766070060618.jpg
END:VEVENT
BEGIN:VEVENT
DTSTART;TZID=Europe/Stockholm:20251109T103000
DTEND;TZID=Europe/Stockholm:20251109T120000
DTSTAMP:20260419T224312
CREATED:20250923T101832Z
LAST-MODIFIED:20251008T194243Z
UID:6548-1762684200-1762689600@www.eksjo-pingst.se
SUMMARY:Gudstjänst
DESCRIPTION:Varmt välkommen på gudstjänst!\nTemat för hösten är ”Helhjärtat” och denna söndag är rubriken ”Helhjärtat autentisk”.\nEfter gudstjänsten är du välkommen till gemenskapen runt fikaborden.\nPredikant: Jesper Bengtsson
URL:https://www.eksjo-pingst.se/event/gudstjanst-10/
LOCATION:Pingstkyrkan Eksjö
CATEGORIES:Gudstjänst
ATTACH;FMTTYPE=image/jpeg:https://www.eksjo-pingst.se/wp-content/uploads/2025/09/Omslag-bild-2.jpg
END:VEVENT
BEGIN:VEVENT
DTSTART;TZID=Europe/Stockholm:20251111T100000
DTEND;TZID=Europe/Stockholm:20251111T110000
DTSTAMP:20260419T224312
CREATED:20250923T061917Z
LAST-MODIFIED:20251008T202411Z
UID:6507-1762855200-1762858800@www.eksjo-pingst.se
SUMMARY:Bibel\, bön & fika
DESCRIPTION:Detta är en samling för alla daglediga. Vi läser Bibeln\, samtalar om texten och ber tillsammans. Efter samlingen serveras fika och vi har gemenskap runt fikaborden. Varmt välkommen!
URL:https://www.eksjo-pingst.se/event/bibel-bon-fika-12/
LOCATION:Pingstkyrkan Eksjö
CATEGORIES:Bön
ATTACH;FMTTYPE=image/jpeg:https://www.eksjo-pingst.se/wp-content/uploads/2025/09/Bon-1-scaled.jpg
END:VEVENT
BEGIN:VEVENT
DTSTART;TZID=Europe/Stockholm:20251114T193000
DTEND;TZID=Europe/Stockholm:20251114T233000
DTSTAMP:20260419T224312
CREATED:20250923T101038Z
LAST-MODIFIED:20251008T203755Z
UID:6534-1763148600-1763163000@www.eksjo-pingst.se
SUMMARY:TRUTH
DESCRIPTION:Välkommen på ungdomsmötet TRUTH! Detta är en kväll då vi bjuder in ungdomsgäng från andra församlingar och satsar lite extra! I Joh 8:32 så säger Jesus att ”Ni ska lära känna sanningen\, och sanningen ska göra er fria” Detta är visionen för TRUTH! Att ungdomar ska få lära känna Jesus som är Sanningen själv. Kvällen börjar kl 19.30 och slutar ca 00.00. \nÅrets talare är Jakob Fhager\, pastor i Ölmstad Allians.\nVälkommen på TRUTH!
URL:https://www.eksjo-pingst.se/event/tonar-11/
CATEGORIES:Tonår
ATTACH;FMTTYPE=image/jpeg:https://www.eksjo-pingst.se/wp-content/uploads/2022/05/IMG_5814-1-scaled.jpg
END:VEVENT
BEGIN:VEVENT
DTSTART;TZID=Europe/Stockholm:20251116T103000
DTEND;TZID=Europe/Stockholm:20251116T120000
DTSTAMP:20260419T224312
CREATED:20250923T101944Z
LAST-MODIFIED:20251008T194401Z
UID:6550-1763289000-1763294400@www.eksjo-pingst.se
SUMMARY:Gudstjänst
DESCRIPTION:Varmt välkommen på gudstjänst!\nTemat för hösten är ”Helhjärtat” och denna söndag är rubriken ”Helhjärtat förlåta”.\nEfter gudstjänsten är du välkommen till gemenskapen runt fikaborden.\nPredikant: Jessica Cehlin
URL:https://www.eksjo-pingst.se/event/gudstjanst-11/
LOCATION:Pingstkyrkan Eksjö
CATEGORIES:Gudstjänst
ATTACH;FMTTYPE=image/jpeg:https://www.eksjo-pingst.se/wp-content/uploads/2025/09/Omslag-bild-2.jpg
END:VEVENT
BEGIN:VEVENT
DTSTART;TZID=Europe/Stockholm:20251116T130000
DTEND;TZID=Europe/Stockholm:20251116T143000
DTSTAMP:20260419T224312
CREATED:20251008T200815Z
LAST-MODIFIED:20251014T132242Z
UID:6893-1763298000-1763303400@www.eksjo-pingst.se
SUMMARY:Hemma hos
DESCRIPTION:Denna söndag kommer vi ha en söndag för gemenskap. Du kan antingen anmäla dig om du vill bjuda hem folk på lunch eller om du vill komma på lunch hem till någon annan. Du kommer sedan få ett meddelande vilka du ska åka hem till på lunch eller ta emot hem till dig (beroende på vad du anmält). Anmälan senast 11/11. Anmälan kan du göra på listor i församlingssalen eller här: https://forms.gle/NCkfFLYBoK4DtijdA
URL:https://www.eksjo-pingst.se/event/hemma-hos/
CATEGORIES:Församlingsgemenskap
ATTACH;FMTTYPE=image/jpeg:https://www.eksjo-pingst.se/wp-content/uploads/2025/10/Mat-lunch.jpg
END:VEVENT
BEGIN:VEVENT
DTSTART;TZID=Europe/Stockholm:20251118T100000
DTEND;TZID=Europe/Stockholm:20251118T110000
DTSTAMP:20260419T224312
CREATED:20250923T061957Z
LAST-MODIFIED:20251008T203229Z
UID:6509-1763460000-1763463600@www.eksjo-pingst.se
SUMMARY:Bibel\, bön & fika
DESCRIPTION:Detta är en samling för alla daglediga. Vi läser Bibeln\, samtalar om texten och ber tillsammans. Efter samlingen serveras fika och vi har gemenskap runt fikaborden. Varmt välkommen!
URL:https://www.eksjo-pingst.se/event/bibel-bon-fika-13/
LOCATION:Pingstkyrkan Eksjö
CATEGORIES:Bön
ATTACH;FMTTYPE=image/jpeg:https://www.eksjo-pingst.se/wp-content/uploads/2025/09/Bon-1-scaled.jpg
END:VEVENT
BEGIN:VEVENT
DTSTART;TZID=Europe/Stockholm:20251118T183000
DTEND;TZID=Europe/Stockholm:20251118T193000
DTSTAMP:20260419T224312
CREATED:20250923T062354Z
LAST-MODIFIED:20251021T115840Z
UID:6519-1763490600-1763494200@www.eksjo-pingst.se
SUMMARY:Bön & lovsång + församlingsmöte
DESCRIPTION:Denna samling börjar vi med att lovsjunga Gud och be för församlingen\, Sverige och Eksjö!\nEfter en stund övergår samlingen till ett församlingsmöte för församlingens medlemmar. Denna gång fattas det beslut om budget. \nMatt 18:19-20\nVidare säger jag er: allt vad två av er kommer överens om att be om här på jorden\, det skall de få av min himmelske fader. Ty där två eller tre är samlade i mitt namn är jag mitt ibland dem.
URL:https://www.eksjo-pingst.se/event/bon-lovsang-7/
LOCATION:Pingstkyrkan Eksjö
CATEGORIES:Bön
ATTACH;FMTTYPE=image/jpeg:https://www.eksjo-pingst.se/wp-content/uploads/2025/09/Lovsang-2-scaled.jpg
END:VEVENT
BEGIN:VEVENT
DTSTART;TZID=Europe/Stockholm:20251120T143000
DTEND;TZID=Europe/Stockholm:20251120T150000
DTSTAMP:20260419T224312
CREATED:20250923T102740Z
LAST-MODIFIED:20251008T210307Z
UID:6563-1763649000-1763650800@www.eksjo-pingst.se
SUMMARY:Andakt på Tuvan
DESCRIPTION:Andakt på trygghetsboendet Tuvan för alla som bor där.
URL:https://www.eksjo-pingst.se/event/andakt/
ATTACH;FMTTYPE=image/jpeg:https://www.eksjo-pingst.se/wp-content/uploads/2025/09/Lovsang-1-1-scaled.jpg
END:VEVENT
BEGIN:VEVENT
DTSTART;TZID=Europe/Stockholm:20251121T193000
DTEND;TZID=Europe/Stockholm:20251121T223000
DTSTAMP:20260419T224312
CREATED:20250923T101141Z
LAST-MODIFIED:20251008T192151Z
UID:6536-1763753400-1763764200@www.eksjo-pingst.se
SUMMARY:Tonår
DESCRIPTION:Tonår finns till för dig som går i årskurs 7 och uppåt. Vi har insläpp fredagar kl 19:30-20:00. Kvällen börjar med drop-in fika och fortsätter sedan med en andakt. Efter andakten fortsätter vi gemenskapen tillsammans med fika\, sällskapsspel\, biljard\, pingis och andra aktiviteter. Vi träffas hela terminen i Pingstkyrkan om det inte står något annat i programmet. Vi brukar stänga Tonår kl 22:30. Välkommen! Vill du veta mer om Tonårsarbetet hör av dig till jesper@eksjo-pingst.se.
URL:https://www.eksjo-pingst.se/event/tonar-12/
CATEGORIES:Tonår
ATTACH;FMTTYPE=image/jpeg:https://www.eksjo-pingst.se/wp-content/uploads/2025/09/Tonar-e1766070060618.jpg
END:VEVENT
BEGIN:VEVENT
DTSTART;TZID=Europe/Stockholm:20251122T120000
DTEND;TZID=Europe/Stockholm:20251122T150000
DTSTAMP:20260419T224312
CREATED:20251008T183933Z
LAST-MODIFIED:20251008T212356Z
UID:6843-1763812800-1763823600@www.eksjo-pingst.se
SUMMARY:Lunch\, spel och häng
DESCRIPTION:En härlig eftermiddag för alla barnfamiljer. Ett tillfälle att umgås och lära känna varandra. Det börjar med lunch kl 12.00 och sen blir det tid för att spela brädspel och leka i gympasalen. Det kommer även bjudas på fika under eftermiddagen. Mat till självkostnadspriser. Anmälan senast 16/11. \nAnmälan sker här: https://forms.gle/RfWEKQ2n3SLReHEB9
URL:https://www.eksjo-pingst.se/event/lunch-spel-och-hang/
LOCATION:Pingstkyrkan Eksjö
CATEGORIES:Familj
ATTACH;FMTTYPE=image/jpeg:https://www.eksjo-pingst.se/wp-content/uploads/2025/09/Barn-1-scaled.jpg
END:VEVENT
BEGIN:VEVENT
DTSTART;TZID=Europe/Stockholm:20251123T103000
DTEND;TZID=Europe/Stockholm:20251123T120000
DTSTAMP:20260419T224312
CREATED:20250923T102019Z
LAST-MODIFIED:20251008T194518Z
UID:6552-1763893800-1763899200@www.eksjo-pingst.se
SUMMARY:Gudstjänst
DESCRIPTION:Varmt välkommen på gudstjänst!\nTemat för hösten är ”Helhjärtat” och denna söndag är rubriken ”Helhjärtat uppmuntra”.\nEfter gudstjänsten är du välkommen till gemenskapen runt fikaborden.\nPredikant: Simon Cehlin
URL:https://www.eksjo-pingst.se/event/gudstjanst-12/
LOCATION:Pingstkyrkan Eksjö
CATEGORIES:Gudstjänst
ATTACH;FMTTYPE=image/jpeg:https://www.eksjo-pingst.se/wp-content/uploads/2025/09/Omslag-bild-2.jpg
END:VEVENT
BEGIN:VEVENT
DTSTART;TZID=Europe/Stockholm:20251125T100000
DTEND;TZID=Europe/Stockholm:20251125T110000
DTSTAMP:20260419T224312
CREATED:20250923T062031Z
LAST-MODIFIED:20251008T202543Z
UID:6511-1764064800-1764068400@www.eksjo-pingst.se
SUMMARY:Bibel\, bön & fika
DESCRIPTION:Detta är en samling för alla daglediga. Vi läser Bibeln\, samtalar om texten och ber tillsammans. Efter samlingen serveras fika och vi har gemenskap runt fikaborden. Varmt välkommen!
URL:https://www.eksjo-pingst.se/event/bibel-bon-fika-14/
LOCATION:Pingstkyrkan Eksjö
CATEGORIES:Bön
ATTACH;FMTTYPE=image/jpeg:https://www.eksjo-pingst.se/wp-content/uploads/2025/09/Bon-1-scaled.jpg
END:VEVENT
BEGIN:VEVENT
DTSTART;TZID=Europe/Stockholm:20251128T193000
DTEND;TZID=Europe/Stockholm:20251128T223000
DTSTAMP:20260419T224312
CREATED:20250923T101251Z
LAST-MODIFIED:20251008T191442Z
UID:6538-1764358200-1764369000@www.eksjo-pingst.se
SUMMARY:Tonår
DESCRIPTION:Tonår finns till för dig som går i årskurs 7 och uppåt. Vi har insläpp fredagar kl 19:30-20:00. Kvällen börjar med drop-in fika och fortsätter sedan med en andakt. Efter andakten fortsätter vi gemenskapen tillsammans med fika\, sällskapsspel\, biljard\, pingis och andra aktiviteter. Vi träffas hela terminen i Pingstkyrkan om det inte står något annat i programmet. Vi brukar stänga Tonår kl 22:30. Välkommen! Vill du veta mer om Tonårsarbetet hör av dig till jesper@eksjo-pingst.se.
URL:https://www.eksjo-pingst.se/event/tonar-13/
CATEGORIES:Tonår
ATTACH;FMTTYPE=image/jpeg:https://www.eksjo-pingst.se/wp-content/uploads/2025/09/Tonar-e1766070060618.jpg
END:VEVENT
BEGIN:VEVENT
DTSTART;TZID=Europe/Stockholm:20251130T103000
DTEND;TZID=Europe/Stockholm:20251130T120000
DTSTAMP:20260419T224312
CREATED:20250923T102101Z
LAST-MODIFIED:20251008T195311Z
UID:6554-1764498600-1764504000@www.eksjo-pingst.se
SUMMARY:Gudstjänst
DESCRIPTION:Varmt välkommen på gudstjänst!\nDenna söndag är det första advent och det firar vi lite extra i Eksjö Pingstkyrka.\nTemat de närmaste veckorna fram till nyår är ”Julens budskap” och rubriken för denna söndag är ”Gud möter oss”.\nFika serveras efter gudstjänsten.\nPredikant: Jessica Cehlin
URL:https://www.eksjo-pingst.se/event/gudstjanst-13/
LOCATION:Pingstkyrkan Eksjö
CATEGORIES:Gudstjänst
ATTACH;FMTTYPE=image/jpeg:https://www.eksjo-pingst.se/wp-content/uploads/2025/09/Omslag-bild-2.jpg
END:VEVENT
END:VCALENDAR